BEGIN:VCALENDAR
VERSION:2.0
PRODID:-//AscentOrbit//Space Launch Tracker//EN
CALSCALE:GREGORIAN
METHOD:PUBLISH
BEGIN:VEVENT
UID:mission-223@ascentorbit.space
DTSTAMP:20260423T190202Z
DTSTART:20260501T173300
DTEND:20260501T193300Z
SUMMARY:Falcon 9 Block 5 | Starlink Group 10-38
DESCRIPTION:A batch of 29 satellites for the Starlink mega-constellation - 
 SpaceX's project for space-based Internet communication system.\\n\\nTrack
  live: https://www.ascentorbit.space/en/missions/223
LOCATION:Space Launch Complex 40
URL:https://www.ascentorbit.space/en/missions/223
END:VEVENT
END:VCALENDAR